BEGIN:VCALENDAR
VERSION:2.0
PRODID:-//Anarpe - ECPv6.15.6//NONSGML v1.0//EN
CALSCALE:GREGORIAN
METHOD:PUBLISH
X-ORIGINAL-URL:https://www.anarpe.it
X-WR-CALDESC:Eventi per Anarpe
REFRESH-INTERVAL;VALUE=DURATION:PT1H
X-Robots-Tag:noindex
X-PUBLISHED-TTL:PT1H
BEGIN:VTIMEZONE
TZID:UTC
BEGIN:STANDARD
TZOFFSETFROM:+0000
TZOFFSETTO:+0000
TZNAME:UTC
DTSTART:20220101T000000
END:STANDARD
END:VTIMEZONE
BEGIN:VEVENT
DTSTART;TZID=UTC:20230519T150000
DTEND;TZID=UTC:20230519T160000
DTSTAMP:20260425T165104
CREATED:20230503T094108Z
LAST-MODIFIED:20230508T100411Z
UID:2816-1684508400-1684512000@www.anarpe.it
SUMMARY:I tetti di spesa scolastici - Una legge che non funziona
DESCRIPTION:“Ogni anno si ripresenta un problema spinoso: come scegliere libri di testo di qualità a basso costo?\nPerché\, in fondo\, è questo che il Ministero chiede quando fissa rigidamente dei tetti di spesa all’acquisto dei libri scolastici. Così\, quello che potrebbe sembrare un mero adempimento burocratico si trasforma in un arengo\, dove si è costretti a mercanteggiare per non sforare le cifre indicate dal Ministero per ogni anno di corsi di studi dalle primarie alle superiori. Ed è proprio questo che spesso accade\, soprattutto nelle scuole superiori\, quando i Consigli di Classe del mese di maggio si trasformano in piccole arene dove far valere le ragioni di scelte di adozione\, rivaleggiando con i colleghi per ottenere l’agognata approvazione e assicurarsi l’anno scolastico a seguire con la prima scelta.\nIn alternativa\, si passa a opzioni meno costose\, non del tutto convincenti ma rispettose del paniere di spesa\, oppure si cercano altri escamotage come inserire i testi nella casella consigliati“. \nNE PARLIAMO A TORINO CON\nAlessandro Amorese deputato alla Camera del Parlamento Italiano\nPaolo Tartaglino\, AIE educational.\nVincenzo Calò ANARPE\nAntonello Giannelli ANP\nAnna Rosa Besana e Rossella Gattinoni\, docenti. \n📌 Sala Madrid\, Centro Congressi \nRichiedi il tuo biglietto!\nPossibilità di esonero dalla lezione
URL:https://www.anarpe.it/evento/i-tetti-di-spesa-scolastici-una-legge-che-non-funziona/
LOCATION:Salone Internazionale del Libro Torino\, Lingotto Fiere\, Via Nizza\, 294\, Torino
CATEGORIES:Evento
ATTACH;FMTTYPE=image/jpeg:https://www.anarpe.it/wp-content/uploads/2023/05/salone-libro-slide-evento.jpeg
END:VEVENT
BEGIN:VEVENT
DTSTART;TZID=UTC:20250516T150000
DTEND;TZID=UTC:20250516T160000
DTSTAMP:20260425T165104
CREATED:20250408T170418Z
LAST-MODIFIED:20250416T195135Z
UID:3181-1747407600-1747411200@www.anarpe.it
SUMMARY:Intelligenza artificiale: un’opportunità per il promotore\, l’editoria e la cultura
DESCRIPTION:Salone del Libro di Torino 2025\nEvento ANARPE – Venerdì 16 maggio ore 15.00-16.00 in Sala Madrid\n“Intelligenza artificiale: un’opportunità per il promotore\, l’editoria e la cultura”\n\nModera:\nEleonora Fortunato – Direttrice di “Orizzonte Scuola” \nRelatori:\nVincenzo Calò – Presidente nazionale ANARPE\nRoberto Devalle – Vicepresidente Settore Educativo AIE\nAntonello Giannelli – Presidente nazionale ANP\nPaolo Ongaro – Direttore generale Gruppo Meta\nGiacomo Pierantozzi – Docente ITC “G. Sommeiller” Torino \n📌 Sala Madrid\, Centro Congressi \nRichiedi il tuo biglietto!
URL:https://www.anarpe.it/evento/intelligenza-artificiale-unopportunita-per-il-promotore-leditoria-e-la-cultura/
LOCATION:Salone Internazionale del Libro Torino\, Lingotto Fiere\, Via Nizza\, 294\, Torino
CATEGORIES:Evento
ATTACH;FMTTYPE=image/png:https://www.anarpe.it/wp-content/uploads/2025/04/Evento_Anarpe_2025-Eleonora.png
END:VEVENT
END:VCALENDAR